BEGIN:VCALENDAR
VERSION:2.0
METHOD:PUBLISH
BEGIN:VEVENT
DTSTAMP:20260421T122120Z
DTSTART:20240718T140000Z
DTEND:20240718T160000Z
SUMMARY:Tech Talks and Tech Support with Jordan
LOCATION:265 Cannifton Road, Belleville, ON K8N 4V8
END:VEVENT
END:VCALENDAR
