BEGIN:VCALENDAR
VERSION:2.0
METHOD:PUBLISH
BEGIN:VEVENT
DTSTAMP:20260419T130251Z
DTSTART:20240712T130000Z
DTEND:20240712T140000Z
SUMMARY:Family Swim (Therapy/Preschool Pool Only)
LOCATION:265 Cannifton Road, Belleville, ON
END:VEVENT
END:VCALENDAR
