BEGIN:VCALENDAR
VERSION:2.0
METHOD:PUBLISH
BEGIN:VEVENT
DTSTAMP:20260420T083121Z
DTSTART:20240708T161500Z
DTEND:20240708T164500Z
SUMMARY:Cardio Core
LOCATION:265 Cannifton Road, Belleville, ON
END:VEVENT
END:VCALENDAR
