BEGIN:VCALENDAR
VERSION:2.0
METHOD:PUBLISH
BEGIN:VEVENT
DTSTAMP:20260422T051052Z
DTSTART:20240708T160000Z
DTEND:20240708T170000Z
SUMMARY:Lane Swim (1/2 pool)
LOCATION:265 Cannifton Rd., Belleville, ON K8N 4V8
END:VEVENT
END:VCALENDAR
