BEGIN:VCALENDAR
VERSION:2.0
METHOD:PUBLISH
BEGIN:VEVENT
DTSTAMP:20260419T145234Z
DTSTART:20240625T133000Z
DTEND:20240625T142000Z
SUMMARY:Senior Shinny (50+)
LOCATION:265 Cannifton Road, Belleville ON K8N 4V8
END:VEVENT
END:VCALENDAR
