BEGIN:VCALENDAR
VERSION:2.0
METHOD:PUBLISH
BEGIN:VEVENT
DTSTAMP:20260423T045703Z
DTSTART:20240617T173000Z
DTEND:20240617T183000Z
SUMMARY:Senior Gentle Fitness
LOCATION:265 Cannifton Road, Belleville, ON K8N 4V8
END:VEVENT
END:VCALENDAR
