BEGIN:VCALENDAR
VERSION:2.0
METHOD:PUBLISH
BEGIN:VEVENT
DTSTAMP:20260425T020755Z
DTSTART:20240617T151500Z
DTEND:20240617T163000Z
SUMMARY:Public Swim (All Pools)
LOCATION:265 Cannifton Road, Belleville ON K8N 4V8
END:VEVENT
END:VCALENDAR
