BEGIN:VCALENDAR
VERSION:2.0
METHOD:PUBLISH
BEGIN:VEVENT
DTSTAMP:20260421T021249Z
DTSTART:20240617T124500Z
DTEND:20240617T143000Z
SUMMARY:Pickleball - Advanced
LOCATION:265 Cannifton Road, Belleville ON K8N 4V8
END:VEVENT
END:VCALENDAR
