BEGIN:VCALENDAR
VERSION:2.0
METHOD:PUBLISH
BEGIN:VEVENT
DTSTAMP:20260424T191701Z
DTSTART:20240614T160000Z
DTEND:20240614T165000Z
SUMMARY:Figure Skating Ticket Ice
LOCATION:265 Cannifton Road, Belleville ON K8N 4V8
END:VEVENT
END:VCALENDAR
