BEGIN:VCALENDAR
VERSION:2.0
METHOD:PUBLISH
BEGIN:VEVENT
DTSTAMP:20260424T235716Z
DTSTART:20240614T151500Z
DTEND:20240614T163000Z
SUMMARY:Public Swim (All Pools)
LOCATION:265 Cannifton Road, Belleville ON K8N 4V8
END:VEVENT
END:VCALENDAR
