BEGIN:VCALENDAR
VERSION:2.0
METHOD:PUBLISH
BEGIN:VEVENT
DTSTAMP:20260420T054457Z
DTSTART:20240613T221500Z
DTEND:20240613T231500Z
SUMMARY:Girls Night Out (9 to 12 years)
LOCATION:265 Cannifton Road, Belleville, ON K8N 4V8
END:VEVENT
END:VCALENDAR
