BEGIN:VCALENDAR
VERSION:2.0
METHOD:PUBLISH
BEGIN:VEVENT
DTSTAMP:20260422T045350Z
DTSTART:20240613T210000Z
DTEND:20240613T230000Z
SUMMARY:Kitchen Crew (8 to 11 Years) NEW
LOCATION:265 Cannifton Road, Belleville, ON K8N 4V8
END:VEVENT
END:VCALENDAR
