BEGIN:VCALENDAR
VERSION:2.0
METHOD:PUBLISH
BEGIN:VEVENT
DTSTAMP:20260424T154227Z
DTSTART:20240613T143000Z
DTEND:20240613T163000Z
SUMMARY:Tech Talks &amp; Tech Support with Jordan
LOCATION:265 Cannifton Road, Belleville, ON K8N 4V8
END:VEVENT
END:VCALENDAR
