BEGIN:VCALENDAR
VERSION:2.0
METHOD:PUBLISH
BEGIN:VEVENT
DTSTAMP:20260422T223112Z
DTSTART:20240612T124500Z
DTEND:20240612T143000Z
SUMMARY:Pickleball - Intermediate
LOCATION:265 Cannifton Road, Belleville ON K8N 4V8
END:VEVENT
END:VCALENDAR
