BEGIN:VCALENDAR
VERSION:2.0
METHOD:PUBLISH
BEGIN:VEVENT
DTSTAMP:20260420T131002Z
DTSTART:20240610T224500Z
DTEND:20240610T234500Z
SUMMARY:Science Explorers (4 to 8 Years)
LOCATION:265 Cannifton Road, Belleville, ON K8N 4V8
END:VEVENT
END:VCALENDAR
