BEGIN:VCALENDAR
VERSION:2.0
METHOD:PUBLISH
BEGIN:VEVENT
DTSTAMP:20260420T042124Z
DTSTART:20240606T221500Z
DTEND:20240606T231500Z
SUMMARY:Girls Night Out (9 to 12 years)
LOCATION:265 Cannifton Road, Belleville, ON K8N 4V8
END:VEVENT
END:VCALENDAR
