BEGIN:VCALENDAR
VERSION:2.0
METHOD:PUBLISH
BEGIN:VEVENT
DTSTAMP:20260419T132927Z
DTSTART:20240604T221500Z
DTEND:20240604T231500Z
SUMMARY:STEM-tastic (9 to 15 Years)
LOCATION:265 Cannifton Road, Belleville, ON K8N 4V8
END:VEVENT
END:VCALENDAR
