BEGIN:VCALENDAR
VERSION:2.0
METHOD:PUBLISH
BEGIN:VEVENT
DTSTAMP:20260420T052406Z
DTSTART:20240604T191500Z
DTEND:20240604T200000Z
SUMMARY:Parent and Tot Swim (Therapy Pool Only)
LOCATION:265 Cannifton Road, Belleville ON K8N 4V8
END:VEVENT
END:VCALENDAR
