BEGIN:VCALENDAR
VERSION:2.0
METHOD:PUBLISH
BEGIN:VEVENT
DTSTAMP:20260422T020106Z
DTSTART:20240603T124500Z
DTEND:20240603T134500Z
SUMMARY:Learn to Speak French - Beginners "Basic Vocabulary"
LOCATION:265 Cannifton Road, Belleville, ON K8N 4V8
END:VEVENT
END:VCALENDAR
