BEGIN:VCALENDAR
VERSION:2.0
METHOD:PUBLISH
BEGIN:VEVENT
DTSTAMP:20260424T220100Z
DTSTART:20240530T144500Z
DTEND:20240530T163000Z
SUMMARY:Pickleball - Advanced
LOCATION:265 Cannifton Road, Belleville ON K8N 4V8
END:VEVENT
END:VCALENDAR
