BEGIN:VCALENDAR
VERSION:2.0
METHOD:PUBLISH
BEGIN:VEVENT
DTSTAMP:20260421T233614Z
DTSTART:20240529T144500Z
DTEND:20240529T154500Z
SUMMARY:Stretch and Balance Fit
LOCATION:265 Cannifton Road, Belleville, ON K8N 4V8
END:VEVENT
END:VCALENDAR
