BEGIN:VCALENDAR
VERSION:2.0
METHOD:PUBLISH
BEGIN:VEVENT
DTSTAMP:20260421T084614Z
DTSTART:20240528T233000Z
DTEND:20240529T005500Z
SUMMARY:Public Swim (All Pools)
LOCATION:265 Cannifton Road, Belleville ON K8N 4V8
END:VEVENT
END:VCALENDAR
