BEGIN:VCALENDAR
VERSION:2.0
METHOD:PUBLISH
BEGIN:VEVENT
DTSTAMP:20260420T175453Z
DTSTART:20240516T170000Z
DTEND:20240516T193000Z
SUMMARY:Carpet Bowling - 1:00-3:30pm
LOCATION:265 Cannifton Road, Belleville ON K8N 4V8
END:VEVENT
END:VCALENDAR
