BEGIN:VCALENDAR
VERSION:2.0
METHOD:PUBLISH
BEGIN:VEVENT
DTSTAMP:20260425T120205Z
DTSTART:20240513T140000Z
DTEND:20240513T150000Z
SUMMARY:Older Adult Yoga
LOCATION:265 Cannifton Road, Belleville, ON K8N 4V8
END:VEVENT
END:VCALENDAR
