BEGIN:VCALENDAR
VERSION:2.0
METHOD:PUBLISH
BEGIN:VEVENT
DTSTAMP:20260419T175643Z
DTSTART:20240510T170000Z
DTEND:20240510T200000Z
SUMMARY:Bridge (Experienced)
LOCATION:265 Cannifton Road, Belleville, ON K8N 4V8
END:VEVENT
END:VCALENDAR
