BEGIN:VCALENDAR
VERSION:2.0
METHOD:PUBLISH
BEGIN:VEVENT
DTSTAMP:20260420T094255Z
DTSTART:20240509T120000Z
DTEND:20240509T124500Z
SUMMARY:Aqua Fitness
LOCATION:265 Cannifton Road, Belleville ON K8N 4V8
END:VEVENT
END:VCALENDAR
