BEGIN:VCALENDAR
VERSION:2.0
METHOD:PUBLISH
BEGIN:VEVENT
DTSTAMP:20260424T143119Z
DTSTART:20240508T140000Z
DTEND:20240508T145000Z
SUMMARY:Aqua Fitness
LOCATION:265 Cannifton Road, Belleville ON K8N 4V8
END:VEVENT
END:VCALENDAR
