BEGIN:VCALENDAR
VERSION:2.0
METHOD:PUBLISH
BEGIN:VEVENT
DTSTAMP:20260423T075413Z
DTSTART:20240504T120000Z
DTEND:20240504T130000Z
SUMMARY:Rehabilitation Swim
LOCATION:265 Cannifton Rd., Belleville, ON K8N 4V8
END:VEVENT
END:VCALENDAR
