BEGIN:VCALENDAR
VERSION:2.0
METHOD:PUBLISH
BEGIN:VEVENT
DTSTAMP:20260423T062247Z
DTSTART:20240427T120000Z
DTEND:20240427T130000Z
SUMMARY:Rehabilitation Swim
LOCATION:265 Cannifton Rd., Belleville, ON K8N 4V8
END:VEVENT
END:VCALENDAR
