BEGIN:VCALENDAR
VERSION:2.0
METHOD:PUBLISH
BEGIN:VEVENT
DTSTAMP:20260424T133907Z
DTSTART:20240403T151500Z
DTEND:20240403T160000Z
SUMMARY:Public Swim (Main Pool Only)
LOCATION:265 Cannifton Road, Belleville ON K8N 4V8
END:VEVENT
END:VCALENDAR
