BEGIN:VCALENDAR
VERSION:2.0
METHOD:PUBLISH
BEGIN:VEVENT
DTSTAMP:20260425T110608Z
DTSTART:20240402T154500Z
DTEND:20240402T164500Z
SUMMARY:Public Swim (Therapy and Preschool Pool Only)
LOCATION:265 Cannifton Road, Belleville ON K8N 4V8
END:VEVENT
END:VCALENDAR
