BEGIN:VCALENDAR
VERSION:2.0
METHOD:PUBLISH
BEGIN:VEVENT
DTSTAMP:20260425T222835Z
DTSTART:20240325T170000Z
DTEND:20240325T200000Z
SUMMARY:Bid Euchre
LOCATION:265 Cannifton Road, Belleville, ON K8N 4V8
END:VEVENT
END:VCALENDAR
