BEGIN:VCALENDAR
VERSION:2.0
METHOD:PUBLISH
BEGIN:VEVENT
DTSTAMP:20260420T083519Z
DTSTART:20240323T110000Z
DTEND:20240324T020000Z
SUMMARY:Belleville and District Kennel Club Dog Show - Obedience Trials
LOCATION:265 Cannifton Road, Belleville, ON K8N 4V8
END:VEVENT
END:VCALENDAR
