BEGIN:VCALENDAR
VERSION:2.0
METHOD:PUBLISH
BEGIN:VEVENT
DTSTAMP:20260420T224900Z
DTSTART:20240322T150000Z
DTEND:20240322T155000Z
SUMMARY:Figure Skating Ticket Ice
LOCATION:265 Cannifton Road, Belleville, ON
END:VEVENT
END:VCALENDAR
