BEGIN:VCALENDAR
VERSION:2.0
METHOD:PUBLISH
BEGIN:VEVENT
DTSTAMP:20260422T010911Z
DTSTART:20240321T230000Z
DTEND:20240321T235000Z
SUMMARY:Aqua Fitness
LOCATION:265 Cannifton Road, Belleville ON K8N 4V8
END:VEVENT
END:VCALENDAR
