BEGIN:VCALENDAR
VERSION:2.0
METHOD:PUBLISH
BEGIN:VEVENT
DTSTAMP:20260424T005506Z
DTSTART:20240321T210000Z
DTEND:20240321T230000Z
SUMMARY:Kitchen Crew (8 to 11 Years) NEW
LOCATION:265 Cannifton Road, Belleville, ON K8N 4V8
END:VEVENT
END:VCALENDAR
