BEGIN:VCALENDAR
VERSION:2.0
METHOD:PUBLISH
BEGIN:VEVENT
DTSTAMP:20260424T034854Z
DTSTART:20240320T124500Z
DTEND:20240320T143000Z
SUMMARY:Pickleball - Intermediate / Advanced
LOCATION:265 Cannifton Road, Belleville ON K8N 4V8
END:VEVENT
END:VCALENDAR
