BEGIN:VCALENDAR
VERSION:2.0
METHOD:PUBLISH
BEGIN:VEVENT
DTSTAMP:20260422T134512Z
DTSTART:20240319T150000Z
DTEND:20240319T154500Z
SUMMARY:Sensory Time (18 months to 4 Years)
LOCATION:265 Cannifton Road, Belleville, ON K8N 4V8
END:VEVENT
END:VCALENDAR
