BEGIN:VCALENDAR
VERSION:2.0
METHOD:PUBLISH
BEGIN:VEVENT
DTSTAMP:20260419T132412Z
DTSTART:20240319T140000Z
DTEND:20240319T144500Z
SUMMARY:Paint &amp; Play (18 months to 4 Years)
LOCATION:265 Cannifton Road, Belleville, ON K8N 4V8
END:VEVENT
END:VCALENDAR
