BEGIN:VCALENDAR
VERSION:2.0
METHOD:PUBLISH
BEGIN:VEVENT
DTSTAMP:20260423T040052Z
DTSTART:20240318T213000Z
DTEND:20240318T223000Z
SUMMARY:Fit and Firm
LOCATION:265 Cannifton Road, Belleville, ON
END:VEVENT
END:VCALENDAR
