BEGIN:VCALENDAR
VERSION:2.0
METHOD:PUBLISH
BEGIN:VEVENT
DTSTAMP:20260420T133749Z
DTSTART:20240315T171500Z
DTEND:20240315T190000Z
SUMMARY:Pickleball - Beginner
LOCATION:265 Cannifton Road, Belleville ON K8N 4V8
END:VEVENT
END:VCALENDAR
