BEGIN:VCALENDAR
VERSION:2.0
METHOD:PUBLISH
BEGIN:VEVENT
DTSTAMP:20260421T132930Z
DTSTART:20240314T124500Z
DTEND:20240314T134500Z
SUMMARY:Older Adult Flow Yoga
LOCATION:265 Cannifton Road, Belleville, ON K8N 4V8
END:VEVENT
END:VCALENDAR
