BEGIN:VCALENDAR
VERSION:2.0
METHOD:PUBLISH
BEGIN:VEVENT
DTSTAMP:20260420T215152Z
DTSTART:20240313T230000Z
DTEND:20240314T020000Z
SUMMARY:Belleville Senators vs. Utica Comets
LOCATION:265 Cannifton Road, Belleville, ON
END:VEVENT
END:VCALENDAR
