BEGIN:VCALENDAR
VERSION:2.0
METHOD:PUBLISH
BEGIN:VEVENT
DTSTAMP:20260423T040215Z
DTSTART:20240311T213000Z
DTEND:20240311T223000Z
SUMMARY:Fit and Firm
LOCATION:265 Cannifton Road, Belleville, ON
END:VEVENT
END:VCALENDAR
