BEGIN:VCALENDAR
VERSION:2.0
METHOD:PUBLISH
BEGIN:VEVENT
DTSTAMP:20260422T185821Z
DTSTART:20240307T231500Z
DTEND:20240308T001500Z
SUMMARY:Sr. Soccer Skills &amp; Drills (9 to 13 Years)
LOCATION:265 Cannifton Road, Belleville, ON K8N 4V8
END:VEVENT
END:VCALENDAR
