BEGIN:VCALENDAR
VERSION:2.0
METHOD:PUBLISH
BEGIN:VEVENT
DTSTAMP:20260420T210137Z
DTSTART:20240307T150000Z
DTEND:20240307T160000Z
SUMMARY:Stretch and Strengthen
LOCATION:265 Cannifton Road, Belleville, ON K8N 4V8
END:VEVENT
END:VCALENDAR
