BEGIN:VCALENDAR
VERSION:2.0
METHOD:PUBLISH
BEGIN:VEVENT
DTSTAMP:20260421T032206Z
DTSTART:20240307T140000Z
DTEND:20240307T144500Z
SUMMARY:Women's Weight Training
LOCATION:265 Cannifton Road, Belleville, ON
END:VEVENT
END:VCALENDAR
