BEGIN:VCALENDAR
VERSION:2.0
METHOD:PUBLISH
BEGIN:VEVENT
DTSTAMP:20260421T050734Z
DTSTART:20240306T220000Z
DTEND:20240307T000000Z
SUMMARY:Young Chefs (11 to 15 Years)
LOCATION:265 Cannifton Road, Belleville, ON K8N 4V8
END:VEVENT
END:VCALENDAR
