BEGIN:VCALENDAR
VERSION:2.0
METHOD:PUBLISH
BEGIN:VEVENT
DTSTAMP:20260421T220621Z
DTSTART:20240306T143000Z
DTEND:20240306T153000Z
SUMMARY:Senior Gentle Fitness
LOCATION:265 Cannifton Road, Belleville, ON K8N 4V8
END:VEVENT
END:VCALENDAR
