BEGIN:VCALENDAR
VERSION:2.0
METHOD:PUBLISH
BEGIN:VEVENT
DTSTAMP:20260423T054421Z
DTSTART:20240304T223000Z
DTEND:20240304T233000Z
SUMMARY:Fit and Firm
LOCATION:265 Cannifton Road, Belleville, ON
END:VEVENT
END:VCALENDAR
